BEGIN:VCALENDAR
VERSION:2.0
PRODID:-//familysoup.org//NONSGML kigkonsult.se iCalcreator 2.30.10//
CALSCALE:GREGORIAN
METHOD:PUBLISH
UID:b5f3eaf9-6dfc-491a-a37a-6cad377deb9b
X-WR-CALDESC:Explore the world in a sensory-minded way during this play gro
 up designed for children ages 0-5 with special needs living in Sutter Coun
 ty.\n\nPumpkin Party \nThursday\, Oct. 3\, 2024\n10:30-11:30 am\nArtisan C
 ommunity Garden\n1333 Butte House Rd.\, Yuba City\n\n\nEvents are free for
  families of children ages 0-5 with special needs\, living in Sutter Count
 y.\nPlease register at: tinyurl.com/SensoryPlay24\nContact Leanne@familyso
 up.org / (530) 751-1925 ext. 110. \n\n____________________________________
 ________________________________________________________\nGrupo de juego s
 ensorial\n\nExplora el mundo de una manera sensorial durante este grupo de
  juego  diseñado para niños de  0-5 con necesidades especiales que viven e
 n el condado de Sutter. \n\n\nFiesta con calabazas\nJueves\, 3 de octubre 
 de 2024\n10:30-11:30 am\nen el Artisan Community Garden \n1333 Butte House
  Rd.\, Yuba City\n\n\nLos eventos son gratuitos para las familias de niños
  de 0-5  con necesidades especiales\, que viven en el Condado de Sutter. 
 \nPor favor registrese en: tinyurl.com/SensoryPlay24\nContacte a Leanne@fa
 milysoup.org / (530) 751-1925 ext. 110.
X-WR-RELCALID:39e9e011c939c4f0e5344dc6344aeda4
X-WR-TIMEZONE:America/Los_Angeles
BEGIN:VTIMEZONE
TZID:America/Los_Angeles
BEGIN:STANDARD
TZNAME:PST
DTSTART:20231105T020000
TZOFFSETFROM:-0700
TZOFFSETTO:-0800
RDATE:20241103T020000
RDATE:20251102T020000
END:STANDARD
BEGIN:DAYLIGHT
TZNAME:PDT
DTSTART:20240310T020000
TZOFFSETFROM:-0800
TZOFFSETTO:-0700
RDATE:20250309T020000
RDATE:20260308T020000
END:DAYLIGHT
END:VTIMEZONE
BEGIN:VEVENT
UID:12e26899-0418-4386-a2fa-48d6999e27fe
DTSTAMP:20260423T161346Z
DESCRIPTION:Explore the world in a sensory-minded way during this play grou
 p designed for children ages 0-5 with special needs living in Sutter Count
 y.\n\nPumpkin Party \nThursday\, Oct. 3\, 2024\n10:30-11:30 am\nArtisan Co
 mmunity Garden\n1333 Butte House Rd.\, Yuba City\n\n\nEvents are free for 
 families of children ages 0-5 with special needs\, living in Sutter County
 .\nPlease register at: tinyurl.com/SensoryPlay24\nContact Leanne@familysou
 p.org / (530) 751-1925 ext. 110. \n\n_____________________________________
 _______________________________________________________\nGrupo de juego se
 nsorial\n\nExplora el mundo de una manera sensorial durante este grupo de 
 juego  diseñado para niños de  0-5 con necesidades especiales que viven en
  el condado de Sutter. \n\n\nFiesta con calabazas\nJueves\, 3 de octubre d
 e 2024\n10:30-11:30 am\nen el Artisan Community Garden \n1333 Butte House 
 Rd.\, Yuba City\n\n\nLos eventos son gratuitos para las familias de niños 
 de 0-5  con necesidades especiales\, que viven en el Condado de Sutter. \n
 Por favor registrese en: tinyurl.com/SensoryPlay24\nContacte a Leanne@fami
 lysoup.org / (530) 751-1925 ext. 110.
DTSTART;TZID=America/Los_Angeles:20241003T103000
DTEND;TZID=America/Los_Angeles:20241003T113000
LOCATION:Colin's Corner\, Orange St. & Maple Ave.\, Yuba City\, CA 95991 US
SUMMARY:Sensory Play Group Pumpkin Party
END:VEVENT
END:VCALENDAR
