BEGIN:VCALENDAR
VERSION:2.0
PRODID:-//familysoup.org//NONSGML kigkonsult.se iCalcreator 2.30.10//
CALSCALE:GREGORIAN
METHOD:PUBLISH
UID:7c868056-4d41-40d0-a7b9-a10701e407a2
X-WR-CALDESC:Join us for a fun day of indoor snow-themed activities\nFor Fa
 milies of Children with special needs and their family & friends \nIn Yuba
 \, Sutter and Colusa Counties \n\nSaturday\, January 15\, 10 AM- 11 AM\n\n
 City of Colusa Auditorium\n425 Webster Street\nColusa\, CA 95932\n\nEVENT 
 IS FREE \nBUT REGISTRATION IS REQUIRED\ntinyurl.com/SnowDay2025\nFOR MORE 
 INFORMATION CONTACT LEANNE@FAMILYSOUP.ORG/ 530-751-1925 EXT. 110 \nor FIRS
 T 5 COLUSA: 530-458-5555 \n\n\n___________________________________________
 _____________________________________________________________\nUn dia Neva
 do\nEn el Valle\n\nAcompáñanos en un divertido día de \nactividades con te
 mática de nieve\npara familias de niños con necesidades especiales\,  \nsu
 s familiares y amigos \nen los condados de Yuba\, Sutter y Colusa\n\nSABAD
 O 25 DE ENERO DE 2025\n 10 AM- 11 AM\n\nCity of Colusa Auditorium\n425 Web
 ster Street\nColusa\, CA 95932\n\nEL EVENTO ES GRATUITO \nPERO NECESITA RE
 GISTRARSE EN:\ntinyurl.com/SnowDay2025\nSi Necesita  mas information llame
  a: LEANNE@FAMILYSOUP.ORG/ 530-751-1925 EXT. 110 \nFIRST 5 COLUSA: 530-458
 -5555
X-WR-RELCALID:2c282216e8ed18b2decf15cfb9d88f90
X-WR-TIMEZONE:America/Los_Angeles
BEGIN:VTIMEZONE
TZID:America/Los_Angeles
BEGIN:STANDARD
TZNAME:PST
DTSTART:20241103T020000
TZOFFSETFROM:-0700
TZOFFSETTO:-0800
RDATE:20251102T020000
END:STANDARD
BEGIN:DAYLIGHT
TZNAME:PDT
DTSTART:20240310T020000
TZOFFSETFROM:-0800
TZOFFSETTO:-0700
RDATE:20250309T020000
RDATE:20260308T020000
END:DAYLIGHT
END:VTIMEZONE
BEGIN:VEVENT
UID:1491e428-e5b2-4ae1-afd6-6d7745065c1a
DTSTAMP:20260423T234423Z
DESCRIPTION:Join us for a fun day of indoor snow-themed activities\nFor Fam
 ilies of Children with special needs and their family & friends \nIn Yuba\
 , Sutter and Colusa Counties \n\nSaturday\, January 15\, 10 AM- 11 AM\n\nC
 ity of Colusa Auditorium\n425 Webster Street\nColusa\, CA 95932\n\nEVENT I
 S FREE \nBUT REGISTRATION IS REQUIRED\ntinyurl.com/SnowDay2025\nFOR MORE I
 NFORMATION CONTACT LEANNE@FAMILYSOUP.ORG/ 530-751-1925 EXT. 110 \nor FIRST
  5 COLUSA: 530-458-5555 \n\n\n____________________________________________
 ____________________________________________________________\nUn dia Nevad
 o\nEn el Valle\n\nAcompáñanos en un divertido día de \nactividades con tem
 ática de nieve\npara familias de niños con necesidades especiales\,  \nsus
  familiares y amigos \nen los condados de Yuba\, Sutter y Colusa\n\nSABADO
  25 DE ENERO DE 2025\n 10 AM- 11 AM\n\nCity of Colusa Auditorium\n425 Webs
 ter Street\nColusa\, CA 95932\n\nEL EVENTO ES GRATUITO \nPERO NECESITA REG
 ISTRARSE EN:\ntinyurl.com/SnowDay2025\nSi Necesita  mas information llame 
 a: LEANNE@FAMILYSOUP.ORG/ 530-751-1925 EXT. 110 \nFIRST 5 COLUSA: 530-458-
 5555
DTSTART;TZID=America/Los_Angeles:20250125T100000
DTEND;TZID=America/Los_Angeles:20250125T110000
LOCATION:https://docs.google.com/forms/d/e/1FAIpQLSfP0tuVcoS2DEs4lTMi3cYDy8
 EW4u1C34fu8nAGV7kmH4QRxA/viewform
SUMMARY:Snow Day in the Valley
END:VEVENT
END:VCALENDAR
