BEGIN:VCALENDAR
VERSION:2.0
PRODID:-//familysoup.org//NONSGML kigkonsult.se iCalcreator 2.30.10//
CALSCALE:GREGORIAN
METHOD:PUBLISH
UID:b219bdb3-aa80-4837-8ca7-a4cafd791b5f
X-WR-CALDESC:Come enjoy a fun morning of indoor play and weather-themed \nm
 usic & movement activities with friends.\n \nFor children ages 0-5 with sp
 ecial needs\nin Yuba\, Sutter & Colusa Counties\n \n \nThursday April 23rd
 \, 2026 10-11 am\n \nLocation: Torrez & Abelina Therapy Office\n201 D Stre
 et Ste A1\, Marysville\n(Park at Yuba County Library on 2nd St in Downtown
  Marysville)\n \nEvent is free\, but registration is required!\n \nFor mor
 e information contact Leanne:\n Leanne@familysoup.org or 530-751-1925 ext.
  110\n\n__________________________________________________________________
 _________________________________\n\n\n\n\nVen a disfrutar de una divertid
 a mañana de juegos\ncon actividades musicales y de movimiento\nrelacionada
 s con el tiempo con tus amigos .\n \nPara niños de 0 a 5 años con necesida
 des especiales\nen los condados de Yuba\, Sutter y Colusa\n \nJueves 23 de
  abril de 2026\nde 10:00am a 11:00am\n \nUbicación: Oficina de Terapia Tor
 rez & Abelian\n201 D Street\, local A1\, Marysville\n(Estaciónese en la bi
 blioteca del condado de Yuba\,\nen la calle 2nd St\, en el centro de Marys
 ville)\n \nEl evento es gratuito\, pero es necesario inscribirse.\nPara má
 s información\, contacte:\nLeanne@familysoup.org o 530-751-1925 ext. 110\n
X-WR-RELCALID:6be3ae4998811a58ee5105fb85e8a3ef
X-WR-TIMEZONE:America/Los_Angeles
BEGIN:VTIMEZONE
TZID:America/Los_Angeles
BEGIN:STANDARD
TZNAME:PST
DTSTART:20251102T020000
TZOFFSETFROM:-0700
TZOFFSETTO:-0800
RDATE:20261101T020000
END:STANDARD
BEGIN:DAYLIGHT
TZNAME:PDT
DTSTART:20260308T020000
TZOFFSETFROM:-0800
TZOFFSETTO:-0700
RDATE:20270314T020000
END:DAYLIGHT
END:VTIMEZONE
BEGIN:VEVENT
UID:7c4192b5-59c8-4012-917e-85d913eda225
DTSTAMP:20260423T042753Z
DESCRIPTION:Come enjoy a fun morning of indoor play and weather-themed \nmu
 sic & movement activities with friends.\n \nFor children ages 0-5 with spe
 cial needs\nin Yuba\, Sutter & Colusa Counties\n \n \nThursday April 23rd\
 , 2026 10-11 am\n \nLocation: Torrez & Abelina Therapy Office\n201 D Stree
 t Ste A1\, Marysville\n(Park at Yuba County Library on 2nd St in Downtown 
 Marysville)\n \nEvent is free\, but registration is required!\n \nFor more
  information contact Leanne:\n Leanne@familysoup.org or 530-751-1925 ext. 
 110\n\n___________________________________________________________________
 ________________________________\n\n\n\n\nVen a disfrutar de una divertida
  mañana de juegos\ncon actividades musicales y de movimiento\nrelacionadas
  con el tiempo con tus amigos .\n \nPara niños de 0 a 5 años con necesidad
 es especiales\nen los condados de Yuba\, Sutter y Colusa\n \nJueves 23 de 
 abril de 2026\nde 10:00am a 11:00am\n \nUbicación: Oficina de Terapia Torr
 ez & Abelian\n201 D Street\, local A1\, Marysville\n(Estaciónese en la bib
 lioteca del condado de Yuba\,\nen la calle 2nd St\, en el centro de Marysv
 ille)\n \nEl evento es gratuito\, pero es necesario inscribirse.\nPara más
  información\, contacte:\nLeanne@familysoup.org o 530-751-1925 ext. 110\n
DTSTART;TZID=America/Los_Angeles:20260423T100000
DTEND;TZID=America/Los_Angeles:20260423T110000
LOCATION:https://docs.google.com/forms/d/e/1FAIpQLSepJhbzM5TIjOBaQ6yvyyNgF9
 RRdzbs05_3LTnKVTx3KtGp-w/viewform
SUMMARY:Sensory Play Music & Movement
END:VEVENT
END:VCALENDAR
