BEGIN:VCALENDAR
VERSION:2.0
PRODID:-//familysoup.org//NONSGML kigkonsult.se iCalcreator 2.30.10//
CALSCALE:GREGORIAN
METHOD:PUBLISH
UID:64a49ad5-6045-4c73-ae46-5566694847d9
X-WR-CALDESC:\nJoin us for a Caregiver & Me Picnic for families of children
  with special needs in Yuba\, Sutter & Colusa Counties. \n\nThursday\, May
  28th\, 2026\n\n10:30-11:30 am \n\nArtisan Community Garden (1333 Butte Ho
 use Rd\, Yuba City) \n\n\n\n- Garden Planting Activity \n- Sprinkler Water
  Play Area\n- Garden-Themed Sensory Station\n- Live Butterfly Exploration
 \n- Picnic Lunch Provided (Bring your own picnic blanket) \nCome in clothe
 s to play and get wet in!\n\n\n\nEvent is free\, but registration is requi
 red. For more information\, contact Leanne@familysoup.org or call 530-751-
 1925 ext. 110.\n\n\n\n\n__________________________________________________
 ___________________________________\n\n\n\nÚnase a nosotros para disfrutar
  de divertidas mañanas con amigos explorando el mundo\nde una manera senso
 rialmente agradable.\n \nAbierto a familias con niños con necesidades espe
 ciales\nde entre 0 y 5 años que residan en los condados de Yuba\, Sutter y
  Colusa.\n \nTodos los materiales y las cuotas de inscripción están inclui
 dos en la inscripción.\nLos eventos son gratuitos\, pero es necesario insc
 ribirse.\nEl folleto vendrá pronto y el enlace para registrarse estará dis
 ponible pronto!\n \nSi tiene alguna pregunta\, póngase en contacto con\nLe
 anne@familysoup.org/ 530-751-1925 ext. 110.\n
X-WR-RELCALID:4684da7bf3213c49495fd46843d69873
X-WR-TIMEZONE:America/Los_Angeles
BEGIN:VTIMEZONE
TZID:America/Los_Angeles
BEGIN:STANDARD
TZNAME:PST
DTSTART:20251102T020000
TZOFFSETFROM:-0700
TZOFFSETTO:-0800
RDATE:20261101T020000
RDATE:20271107T020000
END:STANDARD
BEGIN:DAYLIGHT
TZNAME:PDT
DTSTART:20260308T020000
TZOFFSETFROM:-0800
TZOFFSETTO:-0700
RDATE:20270314T020000
END:DAYLIGHT
END:VTIMEZONE
BEGIN:VEVENT
UID:cbd20e6f-90c2-4e0c-9828-97cb7a2b721a
DTSTAMP:20260425T014405Z
DESCRIPTION:\nJoin us for a Caregiver & Me Picnic for families of children 
 with special needs in Yuba\, Sutter & Colusa Counties. \n\nThursday\, May 
 28th\, 2026\n\n10:30-11:30 am \n\nArtisan Community Garden (1333 Butte Hou
 se Rd\, Yuba City) \n\n\n\n- Garden Planting Activity \n- Sprinkler Water 
 Play Area\n- Garden-Themed Sensory Station\n- Live Butterfly Exploration\n
 - Picnic Lunch Provided (Bring your own picnic blanket) \nCome in clothes 
 to play and get wet in!\n\n\n\nEvent is free\, but registration is require
 d. For more information\, contact Leanne@familysoup.org or call 530-751-19
 25 ext. 110.\n\n\n\n\n____________________________________________________
 _________________________________\n\n\n\nÚnase a nosotros para disfrutar d
 e divertidas mañanas con amigos explorando el mundo\nde una manera sensori
 almente agradable.\n \nAbierto a familias con niños con necesidades especi
 ales\nde entre 0 y 5 años que residan en los condados de Yuba\, Sutter y C
 olusa.\n \nTodos los materiales y las cuotas de inscripción están incluido
 s en la inscripción.\nLos eventos son gratuitos\, pero es necesario inscri
 birse.\nEl folleto vendrá pronto y el enlace para registrarse estará dispo
 nible pronto!\n \nSi tiene alguna pregunta\, póngase en contacto con\nLean
 ne@familysoup.org/ 530-751-1925 ext. 110.\n
DTSTART;TZID=America/Los_Angeles:20260528T030000
DTEND;TZID=America/Los_Angeles:20260528T030001
LOCATION:https://docs.google.com/forms/d/e/1FAIpQLSf8dnj2BjNoy4OpumCUEO-06J
 aA7iq_PQF-fYkAeIl7fZr2UA/viewform
SUMMARY:Sensory Play Group
END:VEVENT
END:VCALENDAR
