BEGIN:VCALENDAR
VERSION:2.0
PRODID:-//familysoup.org//NONSGML kigkonsult.se iCalcreator 2.30.10//
CALSCALE:GREGORIAN
METHOD:PUBLISH
UID:20ff7573-d87d-4c6c-984f-cf65e823ad54
X-WR-CALDESC:Join us for a fun morning in the garden for hands-on activitie
 s with fellow families. Open to families of children with special needs an
 d their friends. Activities for all ages. \n\nFlyer coming soon!\n\n\n4/18
 - Outdoor Safety: Family Hike\, at Hammon Grove Park (Sycamore Ranch\, Bro
 wns Valley)\n\n\n\n5/30- Pet Safety - Artisan Community Garden \n\n\n\n6/2
 0- Home Safety & Make a Family First Aid Kit- Artisan Community Garden \n
 \n\n\n7/18- Bike Safety with Yuba City Police Department– Artisan Communit
 y Garden \n\n\n\n8/15- Fire Safety and Water Play –Artisan Community Garde
 n \n______________________________________________________________________
 ________________\nExploración al aire libre mediante \nActividades sensori
 ales\, científicas\, artísticas y de nutrición \n\n\n¡Actividades familiar
 es inclusivas para todas las edades! \nPara familias y amigos de niños con
  necesidades especiales de edades 0-22 \nen los condados de Yuba\, Sutter 
 y Colusa\n \nLos eventos son gratuitos pero necesita registrarse.\nEl foll
 eto vendrá pronto!\n\n\nSi necesita mas informacion comuniques con:\nLeann
 e@familysoup.org/ 530-751-1925 ext 110\n\n
X-WR-RELCALID:667a06658b230d63e82aee7ed4d6b7f7
X-WR-TIMEZONE:America/Los_Angeles
BEGIN:VTIMEZONE
TZID:America/Los_Angeles
BEGIN:STANDARD
TZNAME:PST
DTSTART:20251102T020000
TZOFFSETFROM:-0700
TZOFFSETTO:-0800
RDATE:20261101T020000
RDATE:20271107T020000
END:STANDARD
BEGIN:DAYLIGHT
TZNAME:PDT
DTSTART:20260308T020000
TZOFFSETFROM:-0800
TZOFFSETTO:-0700
RDATE:20270314T020000
END:DAYLIGHT
END:VTIMEZONE
BEGIN:VEVENT
UID:92972be6-477f-4b9c-b8f2-ed562bf7acb2
DTSTAMP:20260424T192746Z
DESCRIPTION:Join us for a fun morning in the garden for hands-on activities
  with fellow families. Open to families of children with special needs and
  their friends. Activities for all ages. \n\nFlyer coming soon!\n\n\n4/18-
  Outdoor Safety: Family Hike\, at Hammon Grove Park (Sycamore Ranch\, Brow
 ns Valley)\n\n\n\n5/30- Pet Safety - Artisan Community Garden \n\n\n\n6/20
 - Home Safety & Make a Family First Aid Kit- Artisan Community Garden \n\n
 \n\n7/18- Bike Safety with Yuba City Police Department– Artisan Community 
 Garden \n\n\n\n8/15- Fire Safety and Water Play –Artisan Community Garden 
 \n________________________________________________________________________
 ______________\nExploración al aire libre mediante \nActividades sensorial
 es\, científicas\, artísticas y de nutrición \n\n\n¡Actividades familiares
  inclusivas para todas las edades! \nPara familias y amigos de niños con n
 ecesidades especiales de edades 0-22 \nen los condados de Yuba\, Sutter y 
 Colusa\n \nLos eventos son gratuitos pero necesita registrarse.\nEl follet
 o vendrá pronto!\n\n\nSi necesita mas informacion comuniques con:\nLeanne@
 familysoup.org/ 530-751-1925 ext 110\n\n
DTSTART;TZID=America/Los_Angeles:20260530T030000
DTEND;TZID=America/Los_Angeles:20260530T030001
LOCATION:https://docs.google.com/forms/d/e/1FAIpQLScDqPxHOzVRTPxUnGFjyLzUoP
 jzzRXpeMMRm16msoxGVlFAJw/viewform
SUMMARY:Mornings in the Garden
END:VEVENT
END:VCALENDAR
